BEGIN:VCALENDAR
VERSION:2.0
PRODID:-//Cameron Park Zoo | Waco, Texas - ECPv5.11.0//NONSGML v1.0//EN
CALSCALE:GREGORIAN
METHOD:PUBLISH
X-WR-CALNAME:Cameron Park Zoo | Waco, Texas
X-ORIGINAL-URL:https://www.cameronparkzoo.com
X-WR-CALDESC:Events for Cameron Park Zoo | Waco, Texas
BEGIN:VTIMEZONE
TZID:America/Chicago
BEGIN:DAYLIGHT
TZOFFSETFROM:-0600
TZOFFSETTO:-0500
TZNAME:CDT
DTSTART:20230312T080000
END:DAYLIGHT
BEGIN:STANDARD
TZOFFSETFROM:-0500
TZOFFSETTO:-0600
TZNAME:CST
DTSTART:20231105T070000
END:STANDARD
END:VTIMEZONE
BEGIN:VEVENT
DTSTART;TZID=America/Chicago:20230520T090000
DTEND;TZID=America/Chicago:20230520T170000
DTSTAMP:20260425T202845
CREATED:20230509T190125Z
LAST-MODIFIED:20230509T201548Z
UID:969-1684573200-1684602000@www.cameronparkzoo.com
SUMMARY:Endangered Species Day
DESCRIPTION:Come visit us on May 20th to learn about endangered species and what we can do to help those animals! The zoo will have a free scavenger hunt available when guests come into the zoo. Be sure to check out the sandwich board at the front for the code to play! \nHere is how you can play: \n\nDownload the Goose Chase App\nSelect “Play as Guest”\nType in code: 6XDRDG\nPress “Select Team and Join”\nThen Select “Create Team”\nCome up with a team name and begin!\n\nThe Cameron Park Zoo will have the Tiger Girls onsite to help raise funds for Sumatran Tigers out in the wild as well\, be sure to stop buy and support them! \nThis event is free with admission.
URL:https://www.cameronparkzoo.com/event/endangered-species-day/
LOCATION:Cameron Park Zoo
END:VEVENT
END:VCALENDAR