BEGIN:VCALENDAR
VERSION:2.0
PRODID:-//Cameron Park Zoo | Waco, Texas - ECPv5.11.0//NONSGML v1.0//EN
CALSCALE:GREGORIAN
METHOD:PUBLISH
X-WR-CALNAME:Cameron Park Zoo | Waco, Texas
X-ORIGINAL-URL:https://www.cameronparkzoo.com
X-WR-CALDESC:Events for Cameron Park Zoo | Waco, Texas
BEGIN:VTIMEZONE
TZID:America/Chicago
BEGIN:DAYLIGHT
TZOFFSETFROM:-0600
TZOFFSETTO:-0500
TZNAME:CDT
DTSTART:20240310T080000
END:DAYLIGHT
BEGIN:STANDARD
TZOFFSETFROM:-0500
TZOFFSETTO:-0600
TZNAME:CST
DTSTART:20241103T070000
END:STANDARD
END:VTIMEZONE
BEGIN:VEVENT
DTSTART;VALUE=DATE:20240408
DTEND;VALUE=DATE:20240409
DTSTAMP:20260422T010409
CREATED:20231221T164259Z
LAST-MODIFIED:20240327T203304Z
UID:1440-1712534400-1712620799@www.cameronparkzoo.com
SUMMARY:Eclipse at Cameron Park Zoo
DESCRIPTION:Curious about how animals will react to total darkness in the middle of the day? So are we! Join us for this once in a lifetime opportunity to see how the animals at Cameron Park Zoo will respond to the total eclipse. Keeper chats and educational presentations will take place throughout the day. \nEclipse viewing glasses will be available for purchase on site. \nLimited seating will be available for viewing the eclipse around the Zoo.
URL:https://www.cameronparkzoo.com/event/eclipse-at-cameron-park-zoo/
END:VEVENT
END:VCALENDAR