BEGIN:VCALENDAR
VERSION:2.0
PRODID:-//Cameron Park Zoo | Waco, Texas - ECPv5.11.0//NONSGML v1.0//EN
CALSCALE:GREGORIAN
METHOD:PUBLISH
X-WR-CALNAME:Cameron Park Zoo | Waco, Texas
X-ORIGINAL-URL:https://www.cameronparkzoo.com
X-WR-CALDESC:Events for Cameron Park Zoo | Waco, Texas
BEGIN:VTIMEZONE
TZID:America/Chicago
BEGIN:DAYLIGHT
TZOFFSETFROM:-0600
TZOFFSETTO:-0500
TZNAME:CDT
DTSTART:20240310T080000
END:DAYLIGHT
BEGIN:STANDARD
TZOFFSETFROM:-0500
TZOFFSETTO:-0600
TZNAME:CST
DTSTART:20241103T070000
END:STANDARD
END:VTIMEZONE
BEGIN:VEVENT
DTSTART;TZID=America/Chicago:20241025T180000
DTEND;TZID=America/Chicago:20241025T213000
DTSTAMP:20260424T162830
CREATED:20240926T135939Z
LAST-MODIFIED:20240926T181938Z
UID:1986-1729879200-1729891800@www.cameronparkzoo.com
SUMMARY:Cinema Safari: Hocus Pocus
DESCRIPTION:  \nJoin us at the Cameron Park Zoo for Cinema Safari where we will be showing Hocus Pocus outdoors in our meadows area. Bring your lawn chairs and blankets for this bewitching good time! \nOctober 25th doors open at 6:00pm \n$5 per person buy tickets here: https://54208.blackbaudhosting.com/54208/tickets?tab=2&txobjid=8cd24310-3201-4f1b-8d11-b8b6375fb076 \n6:00pm-7:00pm: Trick or Treat Stations with Animal Ambassadors \n7:00pm: Movie Starts \n7:45pm: Intermission Costume Parade \n9:15pm: Movie Ends
URL:https://www.cameronparkzoo.com/event/cinema-safari-hocus-pocus-2/
END:VEVENT
END:VCALENDAR