BEGIN:VCALENDAR
VERSION:2.0
PRODID:-//Cameron Park Zoo | Waco, Texas - ECPv5.11.0//NONSGML v1.0//EN
CALSCALE:GREGORIAN
METHOD:PUBLISH
X-WR-CALNAME:Cameron Park Zoo | Waco, Texas
X-ORIGINAL-URL:https://www.cameronparkzoo.com
X-WR-CALDESC:Events for Cameron Park Zoo | Waco, Texas
BEGIN:VTIMEZONE
TZID:America/Chicago
BEGIN:DAYLIGHT
TZOFFSETFROM:-0600
TZOFFSETTO:-0500
TZNAME:CDT
DTSTART:20230312T080000
END:DAYLIGHT
BEGIN:STANDARD
TZOFFSETFROM:-0500
TZOFFSETTO:-0600
TZNAME:CST
DTSTART:20231105T070000
END:STANDARD
END:VTIMEZONE
BEGIN:VEVENT
DTSTART;TZID=America/Chicago:20230715T090000
DTEND;TZID=America/Chicago:20230715T170000
DTSTAMP:20260425T155524
CREATED:20230713T215811Z
LAST-MODIFIED:20230713T215811Z
UID:1081-1689411600-1689440400@www.cameronparkzoo.com
SUMMARY:30th Birthday Party
DESCRIPTION:Keep the celebration going! Join us on July 15th & 16th to celebrate Cameron Park Zoo’s 30th birthday! We will have live music\, face painting\, and food trucks on site. Plus\, as our special gift to you\, enjoy 30% off admission (cannot be combined with other discounts & valid on site only)! \nKeeper Chats: \nFlower Garden-10:30 AM \nKomodo Dragon-11 AM \nGiraffe- 11:30 PM \nTiger-2 PM \nSouth America-2:30 PM
URL:https://www.cameronparkzoo.com/event/30th-birthday-party/
END:VEVENT
END:VCALENDAR